BEGIN:VCALENDAR
VERSION:2.0
PRODID:-//Golden Gate Park Golf Course - ECPv6.15.18//NONSGML v1.0//EN
CALSCALE:GREGORIAN
METHOD:PUBLISH
X-WR-CALNAME:Golden Gate Park Golf Course
X-ORIGINAL-URL:https://www.goldengateparkgolf.com
X-WR-CALDESC:Events for Golden Gate Park Golf Course
REFRESH-INTERVAL;VALUE=DURATION:PT1H
X-Robots-Tag:noindex
X-PUBLISHED-TTL:PT1H
BEGIN:VTIMEZONE
TZID:UTC
BEGIN:STANDARD
TZOFFSETFROM:+0000
TZOFFSETTO:+0000
TZNAME:UTC
DTSTART:20240101T000000
END:STANDARD
END:VTIMEZONE
BEGIN:VEVENT
DTSTART;TZID=UTC:20250424T160000
DTEND;TZID=UTC:20250424T180000
DTSTAMP:20260420T115156
CREATED:20250201T175642Z
LAST-MODIFIED:20250201T175642Z
UID:10000304-1745510400-1745517600@www.goldengateparkgolf.com
SUMMARY:First Tee of San Francisco
DESCRIPTION:Youth Golf Programming
URL:https://www.goldengateparkgolf.com/event/first-tee-of-san-francisco-3/2025-04-24/
END:VEVENT
BEGIN:VEVENT
DTSTART;TZID=UTC:20250423T160000
DTEND;TZID=UTC:20250423T180000
DTSTAMP:20260420T115156
CREATED:20250201T175642Z
LAST-MODIFIED:20250201T175642Z
UID:10000303-1745424000-1745431200@www.goldengateparkgolf.com
SUMMARY:First Tee of San Francisco
DESCRIPTION:Youth Golf Programming
URL:https://www.goldengateparkgolf.com/event/first-tee-of-san-francisco-3/2025-04-23/
END:VEVENT
BEGIN:VEVENT
DTSTART;TZID=UTC:20250422T160000
DTEND;TZID=UTC:20250422T180000
DTSTAMP:20260420T115156
CREATED:20250201T175642Z
LAST-MODIFIED:20250201T175642Z
UID:10000302-1745337600-1745344800@www.goldengateparkgolf.com
SUMMARY:First Tee of San Francisco
DESCRIPTION:Youth Golf Programming
URL:https://www.goldengateparkgolf.com/event/first-tee-of-san-francisco-3/2025-04-22/
END:VEVENT
BEGIN:VEVENT
DTSTART;TZID=UTC:20250422T100000
DTEND;TZID=UTC:20250422T120000
DTSTAMP:20260420T115156
CREATED:20250201T175437Z
LAST-MODIFIED:20250204T193558Z
UID:10000180-1745316000-1745323200@www.goldengateparkgolf.com
SUMMARY:First Tee of San Francisco
DESCRIPTION:Youth Golf Programming. Groups will be utilizing holes #5 and #6. Golfers will play holes #1 – 4 and #7 – 9 while youth groups are on the course. Thank you!
URL:https://www.goldengateparkgolf.com/event/first-tee-of-san-francisco-2/2025-04-22/
END:VEVENT
BEGIN:VEVENT
DTSTART;TZID=UTC:20250421T160000
DTEND;TZID=UTC:20250421T180000
DTSTAMP:20260420T115156
CREATED:20250201T175642Z
LAST-MODIFIED:20250201T175642Z
UID:10000301-1745251200-1745258400@www.goldengateparkgolf.com
SUMMARY:First Tee of San Francisco
DESCRIPTION:Youth Golf Programming
URL:https://www.goldengateparkgolf.com/event/first-tee-of-san-francisco-3/2025-04-21/
END:VEVENT
BEGIN:VEVENT
DTSTART;TZID=UTC:20250421T100000
DTEND;TZID=UTC:20250421T120000
DTSTAMP:20260420T115156
CREATED:20250201T175437Z
LAST-MODIFIED:20250204T193558Z
UID:10000179-1745229600-1745236800@www.goldengateparkgolf.com
SUMMARY:First Tee of San Francisco
DESCRIPTION:Youth Golf Programming. Groups will be utilizing holes #5 and #6. Golfers will play holes #1 – 4 and #7 – 9 while youth groups are on the course. Thank you!
URL:https://www.goldengateparkgolf.com/event/first-tee-of-san-francisco-2/2025-04-21/
END:VEVENT
BEGIN:VEVENT
DTSTART;TZID=UTC:20250417T160000
DTEND;TZID=UTC:20250417T180000
DTSTAMP:20260420T115156
CREATED:20250201T175642Z
LAST-MODIFIED:20250201T175642Z
UID:10000300-1744905600-1744912800@www.goldengateparkgolf.com
SUMMARY:First Tee of San Francisco
DESCRIPTION:Youth Golf Programming
URL:https://www.goldengateparkgolf.com/event/first-tee-of-san-francisco-3/2025-04-17/
END:VEVENT
BEGIN:VEVENT
DTSTART;TZID=UTC:20250416T160000
DTEND;TZID=UTC:20250416T180000
DTSTAMP:20260420T115156
CREATED:20250201T175642Z
LAST-MODIFIED:20250201T175642Z
UID:10000299-1744819200-1744826400@www.goldengateparkgolf.com
SUMMARY:First Tee of San Francisco
DESCRIPTION:Youth Golf Programming
URL:https://www.goldengateparkgolf.com/event/first-tee-of-san-francisco-3/2025-04-16/
END:VEVENT
BEGIN:VEVENT
DTSTART;TZID=UTC:20250415T160000
DTEND;TZID=UTC:20250415T180000
DTSTAMP:20260420T115156
CREATED:20250201T175642Z
LAST-MODIFIED:20250201T175642Z
UID:10000298-1744732800-1744740000@www.goldengateparkgolf.com
SUMMARY:First Tee of San Francisco
DESCRIPTION:Youth Golf Programming
URL:https://www.goldengateparkgolf.com/event/first-tee-of-san-francisco-3/2025-04-15/
END:VEVENT
BEGIN:VEVENT
DTSTART;TZID=UTC:20250415T100000
DTEND;TZID=UTC:20250415T120000
DTSTAMP:20260420T115156
CREATED:20250201T175437Z
LAST-MODIFIED:20250204T193558Z
UID:10000178-1744711200-1744718400@www.goldengateparkgolf.com
SUMMARY:First Tee of San Francisco
DESCRIPTION:Youth Golf Programming. Groups will be utilizing holes #5 and #6. Golfers will play holes #1 – 4 and #7 – 9 while youth groups are on the course. Thank you!
URL:https://www.goldengateparkgolf.com/event/first-tee-of-san-francisco-2/2025-04-15/
END:VEVENT
BEGIN:VEVENT
DTSTART;TZID=UTC:20250414T160000
DTEND;TZID=UTC:20250414T180000
DTSTAMP:20260420T115156
CREATED:20250201T175642Z
LAST-MODIFIED:20250201T175642Z
UID:10000297-1744646400-1744653600@www.goldengateparkgolf.com
SUMMARY:First Tee of San Francisco
DESCRIPTION:Youth Golf Programming
URL:https://www.goldengateparkgolf.com/event/first-tee-of-san-francisco-3/2025-04-14/
END:VEVENT
BEGIN:VEVENT
DTSTART;TZID=UTC:20250414T100000
DTEND;TZID=UTC:20250414T120000
DTSTAMP:20260420T115156
CREATED:20250201T175437Z
LAST-MODIFIED:20250204T193558Z
UID:10000177-1744624800-1744632000@www.goldengateparkgolf.com
SUMMARY:First Tee of San Francisco
DESCRIPTION:Youth Golf Programming. Groups will be utilizing holes #5 and #6. Golfers will play holes #1 – 4 and #7 – 9 while youth groups are on the course. Thank you!
URL:https://www.goldengateparkgolf.com/event/first-tee-of-san-francisco-2/2025-04-14/
END:VEVENT
BEGIN:VEVENT
DTSTART;TZID=UTC:20250410T160000
DTEND;TZID=UTC:20250410T180000
DTSTAMP:20260420T115156
CREATED:20250201T175642Z
LAST-MODIFIED:20250201T175642Z
UID:10000296-1744300800-1744308000@www.goldengateparkgolf.com
SUMMARY:First Tee of San Francisco
DESCRIPTION:Youth Golf Programming
URL:https://www.goldengateparkgolf.com/event/first-tee-of-san-francisco-3/2025-04-10/
END:VEVENT
BEGIN:VEVENT
DTSTART;TZID=UTC:20250409T160000
DTEND;TZID=UTC:20250409T180000
DTSTAMP:20260420T115156
CREATED:20250201T175642Z
LAST-MODIFIED:20250201T175642Z
UID:10000295-1744214400-1744221600@www.goldengateparkgolf.com
SUMMARY:First Tee of San Francisco
DESCRIPTION:Youth Golf Programming
URL:https://www.goldengateparkgolf.com/event/first-tee-of-san-francisco-3/2025-04-09/
END:VEVENT
BEGIN:VEVENT
DTSTART;TZID=UTC:20250408T160000
DTEND;TZID=UTC:20250408T180000
DTSTAMP:20260420T115156
CREATED:20250201T175642Z
LAST-MODIFIED:20250201T175642Z
UID:10000294-1744128000-1744135200@www.goldengateparkgolf.com
SUMMARY:First Tee of San Francisco
DESCRIPTION:Youth Golf Programming
URL:https://www.goldengateparkgolf.com/event/first-tee-of-san-francisco-3/2025-04-08/
END:VEVENT
BEGIN:VEVENT
DTSTART;TZID=UTC:20250408T100000
DTEND;TZID=UTC:20250408T120000
DTSTAMP:20260420T115156
CREATED:20250201T175437Z
LAST-MODIFIED:20250204T193558Z
UID:10000176-1744106400-1744113600@www.goldengateparkgolf.com
SUMMARY:First Tee of San Francisco
DESCRIPTION:Youth Golf Programming. Groups will be utilizing holes #5 and #6. Golfers will play holes #1 – 4 and #7 – 9 while youth groups are on the course. Thank you!
URL:https://www.goldengateparkgolf.com/event/first-tee-of-san-francisco-2/2025-04-08/
END:VEVENT
BEGIN:VEVENT
DTSTART;TZID=UTC:20250407T160000
DTEND;TZID=UTC:20250407T180000
DTSTAMP:20260420T115156
CREATED:20250201T175642Z
LAST-MODIFIED:20250201T175642Z
UID:10000293-1744041600-1744048800@www.goldengateparkgolf.com
SUMMARY:First Tee of San Francisco
DESCRIPTION:Youth Golf Programming
URL:https://www.goldengateparkgolf.com/event/first-tee-of-san-francisco-3/2025-04-07/
END:VEVENT
BEGIN:VEVENT
DTSTART;TZID=UTC:20250407T100000
DTEND;TZID=UTC:20250407T120000
DTSTAMP:20260420T115156
CREATED:20250201T175437Z
LAST-MODIFIED:20250204T193558Z
UID:10000175-1744020000-1744027200@www.goldengateparkgolf.com
SUMMARY:First Tee of San Francisco
DESCRIPTION:Youth Golf Programming. Groups will be utilizing holes #5 and #6. Golfers will play holes #1 – 4 and #7 – 9 while youth groups are on the course. Thank you!
URL:https://www.goldengateparkgolf.com/event/first-tee-of-san-francisco-2/2025-04-07/
END:VEVENT
BEGIN:VEVENT
DTSTART;TZID=UTC:20250403T160000
DTEND;TZID=UTC:20250403T180000
DTSTAMP:20260420T115156
CREATED:20250201T175642Z
LAST-MODIFIED:20250201T175642Z
UID:10000292-1743696000-1743703200@www.goldengateparkgolf.com
SUMMARY:First Tee of San Francisco
DESCRIPTION:Youth Golf Programming
URL:https://www.goldengateparkgolf.com/event/first-tee-of-san-francisco-3/2025-04-03/
END:VEVENT
BEGIN:VEVENT
DTSTART;TZID=UTC:20250402T160000
DTEND;TZID=UTC:20250402T180000
DTSTAMP:20260420T115156
CREATED:20250201T175642Z
LAST-MODIFIED:20250201T175642Z
UID:10000291-1743609600-1743616800@www.goldengateparkgolf.com
SUMMARY:First Tee of San Francisco
DESCRIPTION:Youth Golf Programming
URL:https://www.goldengateparkgolf.com/event/first-tee-of-san-francisco-3/2025-04-02/
END:VEVENT
BEGIN:VEVENT
DTSTART;TZID=UTC:20250401T160000
DTEND;TZID=UTC:20250401T180000
DTSTAMP:20260420T115156
CREATED:20250201T175642Z
LAST-MODIFIED:20250201T175642Z
UID:10000290-1743523200-1743530400@www.goldengateparkgolf.com
SUMMARY:First Tee of San Francisco
DESCRIPTION:Youth Golf Programming
URL:https://www.goldengateparkgolf.com/event/first-tee-of-san-francisco-3/2025-04-01/
END:VEVENT
BEGIN:VEVENT
DTSTART;TZID=UTC:20250401T100000
DTEND;TZID=UTC:20250401T120000
DTSTAMP:20260420T115156
CREATED:20250201T175437Z
LAST-MODIFIED:20250204T193558Z
UID:10000174-1743501600-1743508800@www.goldengateparkgolf.com
SUMMARY:First Tee of San Francisco
DESCRIPTION:Youth Golf Programming. Groups will be utilizing holes #5 and #6. Golfers will play holes #1 – 4 and #7 – 9 while youth groups are on the course. Thank you!
URL:https://www.goldengateparkgolf.com/event/first-tee-of-san-francisco-2/2025-04-01/
END:VEVENT
BEGIN:VEVENT
DTSTART;TZID=UTC:20250331T160000
DTEND;TZID=UTC:20250331T180000
DTSTAMP:20260420T115156
CREATED:20250201T175642Z
LAST-MODIFIED:20250201T175642Z
UID:10000289-1743436800-1743444000@www.goldengateparkgolf.com
SUMMARY:First Tee of San Francisco
DESCRIPTION:Youth Golf Programming
URL:https://www.goldengateparkgolf.com/event/first-tee-of-san-francisco-3/2025-03-31/
END:VEVENT
BEGIN:VEVENT
DTSTART;TZID=UTC:20250331T100000
DTEND;TZID=UTC:20250331T120000
DTSTAMP:20260420T115156
CREATED:20250201T175437Z
LAST-MODIFIED:20250204T193558Z
UID:10000173-1743415200-1743422400@www.goldengateparkgolf.com
SUMMARY:First Tee of San Francisco
DESCRIPTION:Youth Golf Programming. Groups will be utilizing holes #5 and #6. Golfers will play holes #1 – 4 and #7 – 9 while youth groups are on the course. Thank you!
URL:https://www.goldengateparkgolf.com/event/first-tee-of-san-francisco-2/2025-03-31/
END:VEVENT
BEGIN:VEVENT
DTSTART;TZID=UTC:20250327T160000
DTEND;TZID=UTC:20250327T180000
DTSTAMP:20260420T115156
CREATED:20250201T175642Z
LAST-MODIFIED:20250201T175642Z
UID:10000288-1743091200-1743098400@www.goldengateparkgolf.com
SUMMARY:First Tee of San Francisco
DESCRIPTION:Youth Golf Programming
URL:https://www.goldengateparkgolf.com/event/first-tee-of-san-francisco-3/2025-03-27/
END:VEVENT
BEGIN:VEVENT
DTSTART;TZID=UTC:20250326T160000
DTEND;TZID=UTC:20250326T180000
DTSTAMP:20260420T115156
CREATED:20250201T175642Z
LAST-MODIFIED:20250201T175642Z
UID:10000287-1743004800-1743012000@www.goldengateparkgolf.com
SUMMARY:First Tee of San Francisco
DESCRIPTION:Youth Golf Programming
URL:https://www.goldengateparkgolf.com/event/first-tee-of-san-francisco-3/2025-03-26/
END:VEVENT
BEGIN:VEVENT
DTSTART;TZID=UTC:20250325T160000
DTEND;TZID=UTC:20250325T180000
DTSTAMP:20260420T115156
CREATED:20250201T175642Z
LAST-MODIFIED:20250201T175642Z
UID:10000286-1742918400-1742925600@www.goldengateparkgolf.com
SUMMARY:First Tee of San Francisco
DESCRIPTION:Youth Golf Programming
URL:https://www.goldengateparkgolf.com/event/first-tee-of-san-francisco-3/2025-03-25/
END:VEVENT
BEGIN:VEVENT
DTSTART;TZID=UTC:20250325T100000
DTEND;TZID=UTC:20250325T120000
DTSTAMP:20260420T115156
CREATED:20250201T175437Z
LAST-MODIFIED:20250204T193558Z
UID:10000172-1742896800-1742904000@www.goldengateparkgolf.com
SUMMARY:First Tee of San Francisco
DESCRIPTION:Youth Golf Programming. Groups will be utilizing holes #5 and #6. Golfers will play holes #1 – 4 and #7 – 9 while youth groups are on the course. Thank you!
URL:https://www.goldengateparkgolf.com/event/first-tee-of-san-francisco-2/2025-03-25/
END:VEVENT
BEGIN:VEVENT
DTSTART;TZID=UTC:20250324T160000
DTEND;TZID=UTC:20250324T180000
DTSTAMP:20260420T115156
CREATED:20250201T175642Z
LAST-MODIFIED:20250201T175642Z
UID:10000285-1742832000-1742839200@www.goldengateparkgolf.com
SUMMARY:First Tee of San Francisco
DESCRIPTION:Youth Golf Programming
URL:https://www.goldengateparkgolf.com/event/first-tee-of-san-francisco-3/2025-03-24/
END:VEVENT
BEGIN:VEVENT
DTSTART;TZID=UTC:20250324T100000
DTEND;TZID=UTC:20250324T120000
DTSTAMP:20260420T115156
CREATED:20250201T175437Z
LAST-MODIFIED:20250204T193558Z
UID:10000171-1742810400-1742817600@www.goldengateparkgolf.com
SUMMARY:First Tee of San Francisco
DESCRIPTION:Youth Golf Programming. Groups will be utilizing holes #5 and #6. Golfers will play holes #1 – 4 and #7 – 9 while youth groups are on the course. Thank you!
URL:https://www.goldengateparkgolf.com/event/first-tee-of-san-francisco-2/2025-03-24/
END:VEVENT
END:VCALENDAR