BEGIN:VCALENDAR
VERSION:2.0
PRODID:-//Golden Gate Park Golf Course - ECPv6.15.18//NONSGML v1.0//EN
CALSCALE:GREGORIAN
METHOD:PUBLISH
X-WR-CALNAME:Golden Gate Park Golf Course
X-ORIGINAL-URL:https://www.goldengateparkgolf.com
X-WR-CALDESC:Events for Golden Gate Park Golf Course
REFRESH-INTERVAL;VALUE=DURATION:PT1H
X-Robots-Tag:noindex
X-PUBLISHED-TTL:PT1H
BEGIN:VTIMEZONE
TZID:UTC
BEGIN:STANDARD
TZOFFSETFROM:+0000
TZOFFSETTO:+0000
TZNAME:UTC
DTSTART:20240101T000000
END:STANDARD
END:VTIMEZONE
BEGIN:VEVENT
DTSTART;TZID=UTC:20250403T160000
DTEND;TZID=UTC:20250403T180000
DTSTAMP:20260420T165706
CREATED:20250201T175642Z
LAST-MODIFIED:20250201T175642Z
UID:10000292-1743696000-1743703200@www.goldengateparkgolf.com
SUMMARY:First Tee of San Francisco
DESCRIPTION:Youth Golf Programming
URL:https://www.goldengateparkgolf.com/event/first-tee-of-san-francisco-3/2025-04-03/
END:VEVENT
BEGIN:VEVENT
DTSTART;TZID=UTC:20250402T160000
DTEND;TZID=UTC:20250402T180000
DTSTAMP:20260420T165706
CREATED:20250201T175642Z
LAST-MODIFIED:20250201T175642Z
UID:10000291-1743609600-1743616800@www.goldengateparkgolf.com
SUMMARY:First Tee of San Francisco
DESCRIPTION:Youth Golf Programming
URL:https://www.goldengateparkgolf.com/event/first-tee-of-san-francisco-3/2025-04-02/
END:VEVENT
BEGIN:VEVENT
DTSTART;TZID=UTC:20250401T160000
DTEND;TZID=UTC:20250401T180000
DTSTAMP:20260420T165706
CREATED:20250201T175642Z
LAST-MODIFIED:20250201T175642Z
UID:10000290-1743523200-1743530400@www.goldengateparkgolf.com
SUMMARY:First Tee of San Francisco
DESCRIPTION:Youth Golf Programming
URL:https://www.goldengateparkgolf.com/event/first-tee-of-san-francisco-3/2025-04-01/
END:VEVENT
BEGIN:VEVENT
DTSTART;TZID=UTC:20250401T100000
DTEND;TZID=UTC:20250401T120000
DTSTAMP:20260420T165706
CREATED:20250201T175437Z
LAST-MODIFIED:20250204T193558Z
UID:10000174-1743501600-1743508800@www.goldengateparkgolf.com
SUMMARY:First Tee of San Francisco
DESCRIPTION:Youth Golf Programming. Groups will be utilizing holes #5 and #6. Golfers will play holes #1 – 4 and #7 – 9 while youth groups are on the course. Thank you!
URL:https://www.goldengateparkgolf.com/event/first-tee-of-san-francisco-2/2025-04-01/
END:VEVENT
BEGIN:VEVENT
DTSTART;TZID=UTC:20250331T160000
DTEND;TZID=UTC:20250331T180000
DTSTAMP:20260420T165706
CREATED:20250201T175642Z
LAST-MODIFIED:20250201T175642Z
UID:10000289-1743436800-1743444000@www.goldengateparkgolf.com
SUMMARY:First Tee of San Francisco
DESCRIPTION:Youth Golf Programming
URL:https://www.goldengateparkgolf.com/event/first-tee-of-san-francisco-3/2025-03-31/
END:VEVENT
BEGIN:VEVENT
DTSTART;TZID=UTC:20250331T100000
DTEND;TZID=UTC:20250331T120000
DTSTAMP:20260420T165706
CREATED:20250201T175437Z
LAST-MODIFIED:20250204T193558Z
UID:10000173-1743415200-1743422400@www.goldengateparkgolf.com
SUMMARY:First Tee of San Francisco
DESCRIPTION:Youth Golf Programming. Groups will be utilizing holes #5 and #6. Golfers will play holes #1 – 4 and #7 – 9 while youth groups are on the course. Thank you!
URL:https://www.goldengateparkgolf.com/event/first-tee-of-san-francisco-2/2025-03-31/
END:VEVENT
BEGIN:VEVENT
DTSTART;TZID=UTC:20250327T160000
DTEND;TZID=UTC:20250327T180000
DTSTAMP:20260420T165706
CREATED:20250201T175642Z
LAST-MODIFIED:20250201T175642Z
UID:10000288-1743091200-1743098400@www.goldengateparkgolf.com
SUMMARY:First Tee of San Francisco
DESCRIPTION:Youth Golf Programming
URL:https://www.goldengateparkgolf.com/event/first-tee-of-san-francisco-3/2025-03-27/
END:VEVENT
BEGIN:VEVENT
DTSTART;TZID=UTC:20250326T160000
DTEND;TZID=UTC:20250326T180000
DTSTAMP:20260420T165706
CREATED:20250201T175642Z
LAST-MODIFIED:20250201T175642Z
UID:10000287-1743004800-1743012000@www.goldengateparkgolf.com
SUMMARY:First Tee of San Francisco
DESCRIPTION:Youth Golf Programming
URL:https://www.goldengateparkgolf.com/event/first-tee-of-san-francisco-3/2025-03-26/
END:VEVENT
BEGIN:VEVENT
DTSTART;TZID=UTC:20250325T160000
DTEND;TZID=UTC:20250325T180000
DTSTAMP:20260420T165706
CREATED:20250201T175642Z
LAST-MODIFIED:20250201T175642Z
UID:10000286-1742918400-1742925600@www.goldengateparkgolf.com
SUMMARY:First Tee of San Francisco
DESCRIPTION:Youth Golf Programming
URL:https://www.goldengateparkgolf.com/event/first-tee-of-san-francisco-3/2025-03-25/
END:VEVENT
BEGIN:VEVENT
DTSTART;TZID=UTC:20250325T100000
DTEND;TZID=UTC:20250325T120000
DTSTAMP:20260420T165706
CREATED:20250201T175437Z
LAST-MODIFIED:20250204T193558Z
UID:10000172-1742896800-1742904000@www.goldengateparkgolf.com
SUMMARY:First Tee of San Francisco
DESCRIPTION:Youth Golf Programming. Groups will be utilizing holes #5 and #6. Golfers will play holes #1 – 4 and #7 – 9 while youth groups are on the course. Thank you!
URL:https://www.goldengateparkgolf.com/event/first-tee-of-san-francisco-2/2025-03-25/
END:VEVENT
BEGIN:VEVENT
DTSTART;TZID=UTC:20250324T160000
DTEND;TZID=UTC:20250324T180000
DTSTAMP:20260420T165706
CREATED:20250201T175642Z
LAST-MODIFIED:20250201T175642Z
UID:10000285-1742832000-1742839200@www.goldengateparkgolf.com
SUMMARY:First Tee of San Francisco
DESCRIPTION:Youth Golf Programming
URL:https://www.goldengateparkgolf.com/event/first-tee-of-san-francisco-3/2025-03-24/
END:VEVENT
BEGIN:VEVENT
DTSTART;TZID=UTC:20250324T100000
DTEND;TZID=UTC:20250324T120000
DTSTAMP:20260420T165706
CREATED:20250201T175437Z
LAST-MODIFIED:20250204T193558Z
UID:10000171-1742810400-1742817600@www.goldengateparkgolf.com
SUMMARY:First Tee of San Francisco
DESCRIPTION:Youth Golf Programming. Groups will be utilizing holes #5 and #6. Golfers will play holes #1 – 4 and #7 – 9 while youth groups are on the course. Thank you!
URL:https://www.goldengateparkgolf.com/event/first-tee-of-san-francisco-2/2025-03-24/
END:VEVENT
BEGIN:VEVENT
DTSTART;TZID=UTC:20250320T160000
DTEND;TZID=UTC:20250320T180000
DTSTAMP:20260420T165706
CREATED:20250201T175642Z
LAST-MODIFIED:20250201T175642Z
UID:10000284-1742486400-1742493600@www.goldengateparkgolf.com
SUMMARY:First Tee of San Francisco
DESCRIPTION:Youth Golf Programming
URL:https://www.goldengateparkgolf.com/event/first-tee-of-san-francisco-3/2025-03-20/
END:VEVENT
BEGIN:VEVENT
DTSTART;TZID=UTC:20250319T160000
DTEND;TZID=UTC:20250319T180000
DTSTAMP:20260420T165706
CREATED:20250201T175642Z
LAST-MODIFIED:20250201T175642Z
UID:10000283-1742400000-1742407200@www.goldengateparkgolf.com
SUMMARY:First Tee of San Francisco
DESCRIPTION:Youth Golf Programming
URL:https://www.goldengateparkgolf.com/event/first-tee-of-san-francisco-3/2025-03-19/
END:VEVENT
BEGIN:VEVENT
DTSTART;TZID=UTC:20250318T160000
DTEND;TZID=UTC:20250318T180000
DTSTAMP:20260420T165706
CREATED:20250201T175642Z
LAST-MODIFIED:20250201T175642Z
UID:10000282-1742313600-1742320800@www.goldengateparkgolf.com
SUMMARY:First Tee of San Francisco
DESCRIPTION:Youth Golf Programming
URL:https://www.goldengateparkgolf.com/event/first-tee-of-san-francisco-3/2025-03-18/
END:VEVENT
BEGIN:VEVENT
DTSTART;TZID=UTC:20250318T100000
DTEND;TZID=UTC:20250318T120000
DTSTAMP:20260420T165706
CREATED:20250201T175437Z
LAST-MODIFIED:20250204T193558Z
UID:10000170-1742292000-1742299200@www.goldengateparkgolf.com
SUMMARY:First Tee of San Francisco
DESCRIPTION:Youth Golf Programming. Groups will be utilizing holes #5 and #6. Golfers will play holes #1 – 4 and #7 – 9 while youth groups are on the course. Thank you!
URL:https://www.goldengateparkgolf.com/event/first-tee-of-san-francisco-2/2025-03-18/
END:VEVENT
BEGIN:VEVENT
DTSTART;TZID=UTC:20250317T160000
DTEND;TZID=UTC:20250317T180000
DTSTAMP:20260420T165706
CREATED:20250201T175642Z
LAST-MODIFIED:20250201T175642Z
UID:10000281-1742227200-1742234400@www.goldengateparkgolf.com
SUMMARY:First Tee of San Francisco
DESCRIPTION:Youth Golf Programming
URL:https://www.goldengateparkgolf.com/event/first-tee-of-san-francisco-3/2025-03-17/
END:VEVENT
BEGIN:VEVENT
DTSTART;TZID=UTC:20250317T100000
DTEND;TZID=UTC:20250317T120000
DTSTAMP:20260420T165706
CREATED:20250201T175437Z
LAST-MODIFIED:20250204T193558Z
UID:10000169-1742205600-1742212800@www.goldengateparkgolf.com
SUMMARY:First Tee of San Francisco
DESCRIPTION:Youth Golf Programming. Groups will be utilizing holes #5 and #6. Golfers will play holes #1 – 4 and #7 – 9 while youth groups are on the course. Thank you!
URL:https://www.goldengateparkgolf.com/event/first-tee-of-san-francisco-2/2025-03-17/
END:VEVENT
BEGIN:VEVENT
DTSTART;TZID=UTC:20250313T160000
DTEND;TZID=UTC:20250313T180000
DTSTAMP:20260420T165706
CREATED:20250201T175642Z
LAST-MODIFIED:20250201T175642Z
UID:10000280-1741881600-1741888800@www.goldengateparkgolf.com
SUMMARY:First Tee of San Francisco
DESCRIPTION:Youth Golf Programming
URL:https://www.goldengateparkgolf.com/event/first-tee-of-san-francisco-3/2025-03-13/
END:VEVENT
BEGIN:VEVENT
DTSTART;TZID=UTC:20250312T160000
DTEND;TZID=UTC:20250312T180000
DTSTAMP:20260420T165706
CREATED:20250201T175642Z
LAST-MODIFIED:20250201T175642Z
UID:10000279-1741795200-1741802400@www.goldengateparkgolf.com
SUMMARY:First Tee of San Francisco
DESCRIPTION:Youth Golf Programming
URL:https://www.goldengateparkgolf.com/event/first-tee-of-san-francisco-3/2025-03-12/
END:VEVENT
BEGIN:VEVENT
DTSTART;TZID=UTC:20250311T160000
DTEND;TZID=UTC:20250311T180000
DTSTAMP:20260420T165706
CREATED:20250201T175642Z
LAST-MODIFIED:20250201T175642Z
UID:10000278-1741708800-1741716000@www.goldengateparkgolf.com
SUMMARY:First Tee of San Francisco
DESCRIPTION:Youth Golf Programming
URL:https://www.goldengateparkgolf.com/event/first-tee-of-san-francisco-3/2025-03-11/
END:VEVENT
BEGIN:VEVENT
DTSTART;TZID=UTC:20250311T100000
DTEND;TZID=UTC:20250311T120000
DTSTAMP:20260420T165706
CREATED:20250201T175437Z
LAST-MODIFIED:20250204T193558Z
UID:10000168-1741687200-1741694400@www.goldengateparkgolf.com
SUMMARY:First Tee of San Francisco
DESCRIPTION:Youth Golf Programming. Groups will be utilizing holes #5 and #6. Golfers will play holes #1 – 4 and #7 – 9 while youth groups are on the course. Thank you!
URL:https://www.goldengateparkgolf.com/event/first-tee-of-san-francisco-2/2025-03-11/
END:VEVENT
BEGIN:VEVENT
DTSTART;TZID=UTC:20250310T160000
DTEND;TZID=UTC:20250310T180000
DTSTAMP:20260420T165706
CREATED:20250201T175642Z
LAST-MODIFIED:20250201T175642Z
UID:10000277-1741622400-1741629600@www.goldengateparkgolf.com
SUMMARY:First Tee of San Francisco
DESCRIPTION:Youth Golf Programming
URL:https://www.goldengateparkgolf.com/event/first-tee-of-san-francisco-3/2025-03-10/
END:VEVENT
BEGIN:VEVENT
DTSTART;TZID=UTC:20250310T100000
DTEND;TZID=UTC:20250310T120000
DTSTAMP:20260420T165706
CREATED:20250201T175437Z
LAST-MODIFIED:20250204T193558Z
UID:10000167-1741600800-1741608000@www.goldengateparkgolf.com
SUMMARY:First Tee of San Francisco
DESCRIPTION:Youth Golf Programming. Groups will be utilizing holes #5 and #6. Golfers will play holes #1 – 4 and #7 – 9 while youth groups are on the course. Thank you!
URL:https://www.goldengateparkgolf.com/event/first-tee-of-san-francisco-2/2025-03-10/
END:VEVENT
BEGIN:VEVENT
DTSTART;TZID=UTC:20250304T100000
DTEND;TZID=UTC:20250304T120000
DTSTAMP:20260420T165706
CREATED:20250201T175437Z
LAST-MODIFIED:20250204T193558Z
UID:10000166-1741082400-1741089600@www.goldengateparkgolf.com
SUMMARY:First Tee of San Francisco
DESCRIPTION:Youth Golf Programming. Groups will be utilizing holes #5 and #6. Golfers will play holes #1 – 4 and #7 – 9 while youth groups are on the course. Thank you!
URL:https://www.goldengateparkgolf.com/event/first-tee-of-san-francisco-2/2025-03-04/
END:VEVENT
BEGIN:VEVENT
DTSTART;TZID=UTC:20250303T100000
DTEND;TZID=UTC:20250303T120000
DTSTAMP:20260420T165706
CREATED:20250201T175437Z
LAST-MODIFIED:20250204T193558Z
UID:10000165-1740996000-1741003200@www.goldengateparkgolf.com
SUMMARY:First Tee of San Francisco
DESCRIPTION:Youth Golf Programming. Groups will be utilizing holes #5 and #6. Golfers will play holes #1 – 4 and #7 – 9 while youth groups are on the course. Thank you!
URL:https://www.goldengateparkgolf.com/event/first-tee-of-san-francisco-2/2025-03-03/
END:VEVENT
BEGIN:VEVENT
DTSTART;TZID=UTC:20250225T100000
DTEND;TZID=UTC:20250225T120000
DTSTAMP:20260420T165706
CREATED:20250201T175437Z
LAST-MODIFIED:20250204T193558Z
UID:10000164-1740477600-1740484800@www.goldengateparkgolf.com
SUMMARY:First Tee of San Francisco
DESCRIPTION:Youth Golf Programming. Groups will be utilizing holes #5 and #6. Golfers will play holes #1 – 4 and #7 – 9 while youth groups are on the course. Thank you!
URL:https://www.goldengateparkgolf.com/event/first-tee-of-san-francisco-2/2025-02-25/
END:VEVENT
BEGIN:VEVENT
DTSTART;TZID=UTC:20250224T100000
DTEND;TZID=UTC:20250224T120000
DTSTAMP:20260420T165706
CREATED:20250201T175437Z
LAST-MODIFIED:20250204T193558Z
UID:10000163-1740391200-1740398400@www.goldengateparkgolf.com
SUMMARY:First Tee of San Francisco
DESCRIPTION:Youth Golf Programming. Groups will be utilizing holes #5 and #6. Golfers will play holes #1 – 4 and #7 – 9 while youth groups are on the course. Thank you!
URL:https://www.goldengateparkgolf.com/event/first-tee-of-san-francisco-2/2025-02-24/
END:VEVENT
BEGIN:VEVENT
DTSTART;TZID=UTC:20250218T100000
DTEND;TZID=UTC:20250218T120000
DTSTAMP:20260420T165706
CREATED:20250201T175437Z
LAST-MODIFIED:20250204T193558Z
UID:10000162-1739872800-1739880000@www.goldengateparkgolf.com
SUMMARY:First Tee of San Francisco
DESCRIPTION:Youth Golf Programming. Groups will be utilizing holes #5 and #6. Golfers will play holes #1 – 4 and #7 – 9 while youth groups are on the course. Thank you!
URL:https://www.goldengateparkgolf.com/event/first-tee-of-san-francisco-2/2025-02-18/
END:VEVENT
BEGIN:VEVENT
DTSTART;TZID=UTC:20250217T100000
DTEND;TZID=UTC:20250217T120000
DTSTAMP:20260420T165706
CREATED:20250201T175437Z
LAST-MODIFIED:20250204T193558Z
UID:10000161-1739786400-1739793600@www.goldengateparkgolf.com
SUMMARY:First Tee of San Francisco
DESCRIPTION:Youth Golf Programming. Groups will be utilizing holes #5 and #6. Golfers will play holes #1 – 4 and #7 – 9 while youth groups are on the course. Thank you!
URL:https://www.goldengateparkgolf.com/event/first-tee-of-san-francisco-2/2025-02-17/
END:VEVENT
END:VCALENDAR