BEGIN:VCALENDAR
VERSION:2.0
PRODID:-//Golden Gate Park Golf Course - ECPv6.15.18//NONSGML v1.0//EN
CALSCALE:GREGORIAN
METHOD:PUBLISH
X-ORIGINAL-URL:https://www.goldengateparkgolf.com
X-WR-CALDESC:Events for Golden Gate Park Golf Course
REFRESH-INTERVAL;VALUE=DURATION:PT1H
X-Robots-Tag:noindex
X-PUBLISHED-TTL:PT1H
BEGIN:VTIMEZONE
TZID:UTC
BEGIN:STANDARD
TZOFFSETFROM:+0000
TZOFFSETTO:+0000
TZNAME:UTC
DTSTART:20240101T000000
END:STANDARD
END:VTIMEZONE
BEGIN:VEVENT
DTSTART;TZID=UTC:20251006T100000
DTEND;TZID=UTC:20251006T120000
DTSTAMP:20260421T135137
CREATED:20250201T175437Z
LAST-MODIFIED:20250204T193558Z
UID:10000227-1759744800-1759752000@www.goldengateparkgolf.com
SUMMARY:First Tee of San Francisco
DESCRIPTION:Youth Golf Programming. Groups will be utilizing holes #5 and #6. Golfers will play holes #1 – 4 and #7 – 9 while youth groups are on the course. Thank you!
URL:https://www.goldengateparkgolf.com/event/first-tee-of-san-francisco-2/2025-10-06/
END:VEVENT
BEGIN:VEVENT
DTSTART;TZID=UTC:20251007T100000
DTEND;TZID=UTC:20251007T120000
DTSTAMP:20260421T135137
CREATED:20250201T175437Z
LAST-MODIFIED:20250204T193558Z
UID:10000228-1759831200-1759838400@www.goldengateparkgolf.com
SUMMARY:First Tee of San Francisco
DESCRIPTION:Youth Golf Programming. Groups will be utilizing holes #5 and #6. Golfers will play holes #1 – 4 and #7 – 9 while youth groups are on the course. Thank you!
URL:https://www.goldengateparkgolf.com/event/first-tee-of-san-francisco-2/2025-10-07/
END:VEVENT
BEGIN:VEVENT
DTSTART;TZID=UTC:20251013T100000
DTEND;TZID=UTC:20251013T120000
DTSTAMP:20260421T135137
CREATED:20250201T175437Z
LAST-MODIFIED:20250204T193558Z
UID:10000229-1760349600-1760356800@www.goldengateparkgolf.com
SUMMARY:First Tee of San Francisco
DESCRIPTION:Youth Golf Programming. Groups will be utilizing holes #5 and #6. Golfers will play holes #1 – 4 and #7 – 9 while youth groups are on the course. Thank you!
URL:https://www.goldengateparkgolf.com/event/first-tee-of-san-francisco-2/2025-10-13/
END:VEVENT
BEGIN:VEVENT
DTSTART;TZID=UTC:20251014T100000
DTEND;TZID=UTC:20251014T120000
DTSTAMP:20260421T135137
CREATED:20250201T175437Z
LAST-MODIFIED:20250204T193558Z
UID:10000230-1760436000-1760443200@www.goldengateparkgolf.com
SUMMARY:First Tee of San Francisco
DESCRIPTION:Youth Golf Programming. Groups will be utilizing holes #5 and #6. Golfers will play holes #1 – 4 and #7 – 9 while youth groups are on the course. Thank you!
URL:https://www.goldengateparkgolf.com/event/first-tee-of-san-francisco-2/2025-10-14/
END:VEVENT
BEGIN:VEVENT
DTSTART;TZID=UTC:20251020T100000
DTEND;TZID=UTC:20251020T120000
DTSTAMP:20260421T135137
CREATED:20250201T175437Z
LAST-MODIFIED:20250204T193558Z
UID:10000231-1760954400-1760961600@www.goldengateparkgolf.com
SUMMARY:First Tee of San Francisco
DESCRIPTION:Youth Golf Programming. Groups will be utilizing holes #5 and #6. Golfers will play holes #1 – 4 and #7 – 9 while youth groups are on the course. Thank you!
URL:https://www.goldengateparkgolf.com/event/first-tee-of-san-francisco-2/2025-10-20/
END:VEVENT
BEGIN:VEVENT
DTSTART;TZID=UTC:20251021T100000
DTEND;TZID=UTC:20251021T120000
DTSTAMP:20260421T135137
CREATED:20250201T175437Z
LAST-MODIFIED:20250204T193558Z
UID:10000232-1761040800-1761048000@www.goldengateparkgolf.com
SUMMARY:First Tee of San Francisco
DESCRIPTION:Youth Golf Programming. Groups will be utilizing holes #5 and #6. Golfers will play holes #1 – 4 and #7 – 9 while youth groups are on the course. Thank you!
URL:https://www.goldengateparkgolf.com/event/first-tee-of-san-francisco-2/2025-10-21/
END:VEVENT
BEGIN:VEVENT
DTSTART;TZID=UTC:20251027T100000
DTEND;TZID=UTC:20251027T120000
DTSTAMP:20260421T135137
CREATED:20250201T175437Z
LAST-MODIFIED:20250204T193558Z
UID:10000233-1761559200-1761566400@www.goldengateparkgolf.com
SUMMARY:First Tee of San Francisco
DESCRIPTION:Youth Golf Programming. Groups will be utilizing holes #5 and #6. Golfers will play holes #1 – 4 and #7 – 9 while youth groups are on the course. Thank you!
URL:https://www.goldengateparkgolf.com/event/first-tee-of-san-francisco-2/2025-10-27/
END:VEVENT
BEGIN:VEVENT
DTSTART;TZID=UTC:20251028T100000
DTEND;TZID=UTC:20251028T120000
DTSTAMP:20260421T135137
CREATED:20250201T175437Z
LAST-MODIFIED:20250204T193558Z
UID:10000234-1761645600-1761652800@www.goldengateparkgolf.com
SUMMARY:First Tee of San Francisco
DESCRIPTION:Youth Golf Programming. Groups will be utilizing holes #5 and #6. Golfers will play holes #1 – 4 and #7 – 9 while youth groups are on the course. Thank you!
URL:https://www.goldengateparkgolf.com/event/first-tee-of-san-francisco-2/2025-10-28/
END:VEVENT
BEGIN:VEVENT
DTSTART;TZID=UTC:20251103T100000
DTEND;TZID=UTC:20251103T120000
DTSTAMP:20260421T135137
CREATED:20250201T175437Z
LAST-MODIFIED:20250204T193558Z
UID:10000235-1762164000-1762171200@www.goldengateparkgolf.com
SUMMARY:First Tee of San Francisco
DESCRIPTION:Youth Golf Programming. Groups will be utilizing holes #5 and #6. Golfers will play holes #1 – 4 and #7 – 9 while youth groups are on the course. Thank you!
URL:https://www.goldengateparkgolf.com/event/first-tee-of-san-francisco-2/2025-11-03/
END:VEVENT
BEGIN:VEVENT
DTSTART;TZID=UTC:20251104T100000
DTEND;TZID=UTC:20251104T120000
DTSTAMP:20260421T135137
CREATED:20250201T175437Z
LAST-MODIFIED:20250204T193558Z
UID:10000236-1762250400-1762257600@www.goldengateparkgolf.com
SUMMARY:First Tee of San Francisco
DESCRIPTION:Youth Golf Programming. Groups will be utilizing holes #5 and #6. Golfers will play holes #1 – 4 and #7 – 9 while youth groups are on the course. Thank you!
URL:https://www.goldengateparkgolf.com/event/first-tee-of-san-francisco-2/2025-11-04/
END:VEVENT
BEGIN:VEVENT
DTSTART;TZID=UTC:20251110T100000
DTEND;TZID=UTC:20251110T120000
DTSTAMP:20260421T135137
CREATED:20250201T175437Z
LAST-MODIFIED:20250204T193558Z
UID:10000237-1762768800-1762776000@www.goldengateparkgolf.com
SUMMARY:First Tee of San Francisco
DESCRIPTION:Youth Golf Programming. Groups will be utilizing holes #5 and #6. Golfers will play holes #1 – 4 and #7 – 9 while youth groups are on the course. Thank you!
URL:https://www.goldengateparkgolf.com/event/first-tee-of-san-francisco-2/2025-11-10/
END:VEVENT
BEGIN:VEVENT
DTSTART;TZID=UTC:20251111T100000
DTEND;TZID=UTC:20251111T120000
DTSTAMP:20260421T135137
CREATED:20250201T175437Z
LAST-MODIFIED:20250204T193558Z
UID:10000238-1762855200-1762862400@www.goldengateparkgolf.com
SUMMARY:First Tee of San Francisco
DESCRIPTION:Youth Golf Programming. Groups will be utilizing holes #5 and #6. Golfers will play holes #1 – 4 and #7 – 9 while youth groups are on the course. Thank you!
URL:https://www.goldengateparkgolf.com/event/first-tee-of-san-francisco-2/2025-11-11/
END:VEVENT
BEGIN:VEVENT
DTSTART;TZID=UTC:20251117T100000
DTEND;TZID=UTC:20251117T120000
DTSTAMP:20260421T135137
CREATED:20250201T175437Z
LAST-MODIFIED:20250204T193558Z
UID:10000239-1763373600-1763380800@www.goldengateparkgolf.com
SUMMARY:First Tee of San Francisco
DESCRIPTION:Youth Golf Programming. Groups will be utilizing holes #5 and #6. Golfers will play holes #1 – 4 and #7 – 9 while youth groups are on the course. Thank you!
URL:https://www.goldengateparkgolf.com/event/first-tee-of-san-francisco-2/2025-11-17/
END:VEVENT
BEGIN:VEVENT
DTSTART;TZID=UTC:20251118T100000
DTEND;TZID=UTC:20251118T120000
DTSTAMP:20260421T135137
CREATED:20250201T175437Z
LAST-MODIFIED:20250204T193558Z
UID:10000240-1763460000-1763467200@www.goldengateparkgolf.com
SUMMARY:First Tee of San Francisco
DESCRIPTION:Youth Golf Programming. Groups will be utilizing holes #5 and #6. Golfers will play holes #1 – 4 and #7 – 9 while youth groups are on the course. Thank you!
URL:https://www.goldengateparkgolf.com/event/first-tee-of-san-francisco-2/2025-11-18/
END:VEVENT
BEGIN:VEVENT
DTSTART;TZID=UTC:20251124T100000
DTEND;TZID=UTC:20251124T120000
DTSTAMP:20260421T135137
CREATED:20250201T175437Z
LAST-MODIFIED:20250204T193558Z
UID:10000241-1763978400-1763985600@www.goldengateparkgolf.com
SUMMARY:First Tee of San Francisco
DESCRIPTION:Youth Golf Programming. Groups will be utilizing holes #5 and #6. Golfers will play holes #1 – 4 and #7 – 9 while youth groups are on the course. Thank you!
URL:https://www.goldengateparkgolf.com/event/first-tee-of-san-francisco-2/2025-11-24/
END:VEVENT
BEGIN:VEVENT
DTSTART;TZID=UTC:20251125T100000
DTEND;TZID=UTC:20251125T120000
DTSTAMP:20260421T135137
CREATED:20250201T175437Z
LAST-MODIFIED:20250204T193558Z
UID:10000242-1764064800-1764072000@www.goldengateparkgolf.com
SUMMARY:First Tee of San Francisco
DESCRIPTION:Youth Golf Programming. Groups will be utilizing holes #5 and #6. Golfers will play holes #1 – 4 and #7 – 9 while youth groups are on the course. Thank you!
URL:https://www.goldengateparkgolf.com/event/first-tee-of-san-francisco-2/2025-11-25/
END:VEVENT
BEGIN:VEVENT
DTSTART;TZID=UTC:20251201T100000
DTEND;TZID=UTC:20251201T120000
DTSTAMP:20260421T135137
CREATED:20250201T175437Z
LAST-MODIFIED:20250204T193558Z
UID:10000243-1764583200-1764590400@www.goldengateparkgolf.com
SUMMARY:First Tee of San Francisco
DESCRIPTION:Youth Golf Programming. Groups will be utilizing holes #5 and #6. Golfers will play holes #1 – 4 and #7 – 9 while youth groups are on the course. Thank you!
URL:https://www.goldengateparkgolf.com/event/first-tee-of-san-francisco-2/2025-12-01/
END:VEVENT
BEGIN:VEVENT
DTSTART;TZID=UTC:20251202T100000
DTEND;TZID=UTC:20251202T120000
DTSTAMP:20260421T135137
CREATED:20250201T175437Z
LAST-MODIFIED:20250204T193558Z
UID:10000244-1764669600-1764676800@www.goldengateparkgolf.com
SUMMARY:First Tee of San Francisco
DESCRIPTION:Youth Golf Programming. Groups will be utilizing holes #5 and #6. Golfers will play holes #1 – 4 and #7 – 9 while youth groups are on the course. Thank you!
URL:https://www.goldengateparkgolf.com/event/first-tee-of-san-francisco-2/2025-12-02/
END:VEVENT
BEGIN:VEVENT
DTSTART;TZID=UTC:20251208T100000
DTEND;TZID=UTC:20251208T120000
DTSTAMP:20260421T135137
CREATED:20250201T175437Z
LAST-MODIFIED:20250204T193558Z
UID:10000245-1765188000-1765195200@www.goldengateparkgolf.com
SUMMARY:First Tee of San Francisco
DESCRIPTION:Youth Golf Programming. Groups will be utilizing holes #5 and #6. Golfers will play holes #1 – 4 and #7 – 9 while youth groups are on the course. Thank you!
URL:https://www.goldengateparkgolf.com/event/first-tee-of-san-francisco-2/2025-12-08/
END:VEVENT
BEGIN:VEVENT
DTSTART;TZID=UTC:20251209T100000
DTEND;TZID=UTC:20251209T120000
DTSTAMP:20260421T135137
CREATED:20250201T175437Z
LAST-MODIFIED:20250204T193558Z
UID:10000246-1765274400-1765281600@www.goldengateparkgolf.com
SUMMARY:First Tee of San Francisco
DESCRIPTION:Youth Golf Programming. Groups will be utilizing holes #5 and #6. Golfers will play holes #1 – 4 and #7 – 9 while youth groups are on the course. Thank you!
URL:https://www.goldengateparkgolf.com/event/first-tee-of-san-francisco-2/2025-12-09/
END:VEVENT
BEGIN:VEVENT
DTSTART;TZID=UTC:20251215T100000
DTEND;TZID=UTC:20251215T120000
DTSTAMP:20260421T135137
CREATED:20250201T175437Z
LAST-MODIFIED:20250204T193558Z
UID:10000247-1765792800-1765800000@www.goldengateparkgolf.com
SUMMARY:First Tee of San Francisco
DESCRIPTION:Youth Golf Programming. Groups will be utilizing holes #5 and #6. Golfers will play holes #1 – 4 and #7 – 9 while youth groups are on the course. Thank you!
URL:https://www.goldengateparkgolf.com/event/first-tee-of-san-francisco-2/2025-12-15/
END:VEVENT
BEGIN:VEVENT
DTSTART;TZID=UTC:20251216T100000
DTEND;TZID=UTC:20251216T120000
DTSTAMP:20260421T135137
CREATED:20250201T175437Z
LAST-MODIFIED:20250204T193558Z
UID:10000248-1765879200-1765886400@www.goldengateparkgolf.com
SUMMARY:First Tee of San Francisco
DESCRIPTION:Youth Golf Programming. Groups will be utilizing holes #5 and #6. Golfers will play holes #1 – 4 and #7 – 9 while youth groups are on the course. Thank you!
URL:https://www.goldengateparkgolf.com/event/first-tee-of-san-francisco-2/2025-12-16/
END:VEVENT
BEGIN:VEVENT
DTSTART;TZID=UTC:20251222T100000
DTEND;TZID=UTC:20251222T120000
DTSTAMP:20260421T135137
CREATED:20250201T175437Z
LAST-MODIFIED:20250204T193558Z
UID:10000249-1766397600-1766404800@www.goldengateparkgolf.com
SUMMARY:First Tee of San Francisco
DESCRIPTION:Youth Golf Programming. Groups will be utilizing holes #5 and #6. Golfers will play holes #1 – 4 and #7 – 9 while youth groups are on the course. Thank you!
URL:https://www.goldengateparkgolf.com/event/first-tee-of-san-francisco-2/2025-12-22/
END:VEVENT
BEGIN:VEVENT
DTSTART;TZID=UTC:20251223T100000
DTEND;TZID=UTC:20251223T120000
DTSTAMP:20260421T135137
CREATED:20250201T175437Z
LAST-MODIFIED:20250204T193558Z
UID:10000250-1766484000-1766491200@www.goldengateparkgolf.com
SUMMARY:First Tee of San Francisco
DESCRIPTION:Youth Golf Programming. Groups will be utilizing holes #5 and #6. Golfers will play holes #1 – 4 and #7 – 9 while youth groups are on the course. Thank you!
URL:https://www.goldengateparkgolf.com/event/first-tee-of-san-francisco-2/2025-12-23/
END:VEVENT
BEGIN:VEVENT
DTSTART;TZID=UTC:20251229T100000
DTEND;TZID=UTC:20251229T120000
DTSTAMP:20260421T135137
CREATED:20250201T175437Z
LAST-MODIFIED:20250204T193558Z
UID:10000251-1767002400-1767009600@www.goldengateparkgolf.com
SUMMARY:First Tee of San Francisco
DESCRIPTION:Youth Golf Programming. Groups will be utilizing holes #5 and #6. Golfers will play holes #1 – 4 and #7 – 9 while youth groups are on the course. Thank you!
URL:https://www.goldengateparkgolf.com/event/first-tee-of-san-francisco-2/2025-12-29/
END:VEVENT
BEGIN:VEVENT
DTSTART;TZID=UTC:20251230T100000
DTEND;TZID=UTC:20251230T120000
DTSTAMP:20260421T135137
CREATED:20250201T175437Z
LAST-MODIFIED:20250204T193558Z
UID:10000252-1767088800-1767096000@www.goldengateparkgolf.com
SUMMARY:First Tee of San Francisco
DESCRIPTION:Youth Golf Programming. Groups will be utilizing holes #5 and #6. Golfers will play holes #1 – 4 and #7 – 9 while youth groups are on the course. Thank you!
URL:https://www.goldengateparkgolf.com/event/first-tee-of-san-francisco-2/2025-12-30/
END:VEVENT
BEGIN:VEVENT
DTSTART;TZID=UTC:20260105T100000
DTEND;TZID=UTC:20260105T120000
DTSTAMP:20260421T135137
CREATED:20250201T175437Z
LAST-MODIFIED:20250204T193558Z
UID:10000253-1767607200-1767614400@www.goldengateparkgolf.com
SUMMARY:First Tee of San Francisco
DESCRIPTION:Youth Golf Programming. Groups will be utilizing holes #5 and #6. Golfers will play holes #1 – 4 and #7 – 9 while youth groups are on the course. Thank you!
URL:https://www.goldengateparkgolf.com/event/first-tee-of-san-francisco-2/2026-01-05/
END:VEVENT
BEGIN:VEVENT
DTSTART;TZID=UTC:20260106T100000
DTEND;TZID=UTC:20260106T120000
DTSTAMP:20260421T135137
CREATED:20250201T175437Z
LAST-MODIFIED:20250204T193558Z
UID:10000254-1767693600-1767700800@www.goldengateparkgolf.com
SUMMARY:First Tee of San Francisco
DESCRIPTION:Youth Golf Programming. Groups will be utilizing holes #5 and #6. Golfers will play holes #1 – 4 and #7 – 9 while youth groups are on the course. Thank you!
URL:https://www.goldengateparkgolf.com/event/first-tee-of-san-francisco-2/2026-01-06/
END:VEVENT
BEGIN:VEVENT
DTSTART;TZID=UTC:20260112T100000
DTEND;TZID=UTC:20260112T120000
DTSTAMP:20260421T135137
CREATED:20250201T175437Z
LAST-MODIFIED:20250204T193558Z
UID:10000255-1768212000-1768219200@www.goldengateparkgolf.com
SUMMARY:First Tee of San Francisco
DESCRIPTION:Youth Golf Programming. Groups will be utilizing holes #5 and #6. Golfers will play holes #1 – 4 and #7 – 9 while youth groups are on the course. Thank you!
URL:https://www.goldengateparkgolf.com/event/first-tee-of-san-francisco-2/2026-01-12/
END:VEVENT
BEGIN:VEVENT
DTSTART;TZID=UTC:20260113T100000
DTEND;TZID=UTC:20260113T120000
DTSTAMP:20260421T135137
CREATED:20250201T175437Z
LAST-MODIFIED:20250204T193558Z
UID:10000256-1768298400-1768305600@www.goldengateparkgolf.com
SUMMARY:First Tee of San Francisco
DESCRIPTION:Youth Golf Programming. Groups will be utilizing holes #5 and #6. Golfers will play holes #1 – 4 and #7 – 9 while youth groups are on the course. Thank you!
URL:https://www.goldengateparkgolf.com/event/first-tee-of-san-francisco-2/2026-01-13/
END:VEVENT
END:VCALENDAR