BEGIN:VCALENDAR
VERSION:2.0
PRODID:-//Golden Gate Park Golf Course - ECPv6.15.18//NONSGML v1.0//EN
CALSCALE:GREGORIAN
METHOD:PUBLISH
X-WR-CALNAME:Golden Gate Park Golf Course
X-ORIGINAL-URL:https://www.goldengateparkgolf.com
X-WR-CALDESC:Events for Golden Gate Park Golf Course
REFRESH-INTERVAL;VALUE=DURATION:PT1H
X-Robots-Tag:noindex
X-PUBLISHED-TTL:PT1H
BEGIN:VTIMEZONE
TZID:UTC
BEGIN:STANDARD
TZOFFSETFROM:+0000
TZOFFSETTO:+0000
TZNAME:UTC
DTSTART:20240101T000000
END:STANDARD
END:VTIMEZONE
BEGIN:VEVENT
DTSTART;TZID=UTC:20250812T100000
DTEND;TZID=UTC:20250812T120000
DTSTAMP:20260420T002820
CREATED:20250201T175437Z
LAST-MODIFIED:20250204T193558Z
UID:10000212-1754992800-1755000000@www.goldengateparkgolf.com
SUMMARY:First Tee of San Francisco
DESCRIPTION:Youth Golf Programming. Groups will be utilizing holes #5 and #6. Golfers will play holes #1 – 4 and #7 – 9 while youth groups are on the course. Thank you!
URL:https://www.goldengateparkgolf.com/event/first-tee-of-san-francisco-2/2025-08-12/
END:VEVENT
BEGIN:VEVENT
DTSTART;TZID=UTC:20250811T100000
DTEND;TZID=UTC:20250811T120000
DTSTAMP:20260420T002820
CREATED:20250201T175437Z
LAST-MODIFIED:20250204T193558Z
UID:10000211-1754906400-1754913600@www.goldengateparkgolf.com
SUMMARY:First Tee of San Francisco
DESCRIPTION:Youth Golf Programming. Groups will be utilizing holes #5 and #6. Golfers will play holes #1 – 4 and #7 – 9 while youth groups are on the course. Thank you!
URL:https://www.goldengateparkgolf.com/event/first-tee-of-san-francisco-2/2025-08-11/
END:VEVENT
BEGIN:VEVENT
DTSTART;TZID=UTC:20250805T100000
DTEND;TZID=UTC:20250805T120000
DTSTAMP:20260420T002820
CREATED:20250201T175437Z
LAST-MODIFIED:20250204T193558Z
UID:10000210-1754388000-1754395200@www.goldengateparkgolf.com
SUMMARY:First Tee of San Francisco
DESCRIPTION:Youth Golf Programming. Groups will be utilizing holes #5 and #6. Golfers will play holes #1 – 4 and #7 – 9 while youth groups are on the course. Thank you!
URL:https://www.goldengateparkgolf.com/event/first-tee-of-san-francisco-2/2025-08-05/
END:VEVENT
BEGIN:VEVENT
DTSTART;TZID=UTC:20250804T100000
DTEND;TZID=UTC:20250804T120000
DTSTAMP:20260420T002820
CREATED:20250201T175437Z
LAST-MODIFIED:20250204T193558Z
UID:10000209-1754301600-1754308800@www.goldengateparkgolf.com
SUMMARY:First Tee of San Francisco
DESCRIPTION:Youth Golf Programming. Groups will be utilizing holes #5 and #6. Golfers will play holes #1 – 4 and #7 – 9 while youth groups are on the course. Thank you!
URL:https://www.goldengateparkgolf.com/event/first-tee-of-san-francisco-2/2025-08-04/
END:VEVENT
BEGIN:VEVENT
DTSTART;TZID=UTC:20250729T100000
DTEND;TZID=UTC:20250729T120000
DTSTAMP:20260420T002820
CREATED:20250201T175437Z
LAST-MODIFIED:20250204T193558Z
UID:10000208-1753783200-1753790400@www.goldengateparkgolf.com
SUMMARY:First Tee of San Francisco
DESCRIPTION:Youth Golf Programming. Groups will be utilizing holes #5 and #6. Golfers will play holes #1 – 4 and #7 – 9 while youth groups are on the course. Thank you!
URL:https://www.goldengateparkgolf.com/event/first-tee-of-san-francisco-2/2025-07-29/
END:VEVENT
BEGIN:VEVENT
DTSTART;TZID=UTC:20250728T100000
DTEND;TZID=UTC:20250728T120000
DTSTAMP:20260420T002820
CREATED:20250201T175437Z
LAST-MODIFIED:20250204T193558Z
UID:10000207-1753696800-1753704000@www.goldengateparkgolf.com
SUMMARY:First Tee of San Francisco
DESCRIPTION:Youth Golf Programming. Groups will be utilizing holes #5 and #6. Golfers will play holes #1 – 4 and #7 – 9 while youth groups are on the course. Thank you!
URL:https://www.goldengateparkgolf.com/event/first-tee-of-san-francisco-2/2025-07-28/
END:VEVENT
BEGIN:VEVENT
DTSTART;TZID=UTC:20250722T100000
DTEND;TZID=UTC:20250722T120000
DTSTAMP:20260420T002820
CREATED:20250201T175437Z
LAST-MODIFIED:20250204T193558Z
UID:10000206-1753178400-1753185600@www.goldengateparkgolf.com
SUMMARY:First Tee of San Francisco
DESCRIPTION:Youth Golf Programming. Groups will be utilizing holes #5 and #6. Golfers will play holes #1 – 4 and #7 – 9 while youth groups are on the course. Thank you!
URL:https://www.goldengateparkgolf.com/event/first-tee-of-san-francisco-2/2025-07-22/
END:VEVENT
BEGIN:VEVENT
DTSTART;TZID=UTC:20250721T100000
DTEND;TZID=UTC:20250721T120000
DTSTAMP:20260420T002820
CREATED:20250201T175437Z
LAST-MODIFIED:20250204T193558Z
UID:10000205-1753092000-1753099200@www.goldengateparkgolf.com
SUMMARY:First Tee of San Francisco
DESCRIPTION:Youth Golf Programming. Groups will be utilizing holes #5 and #6. Golfers will play holes #1 – 4 and #7 – 9 while youth groups are on the course. Thank you!
URL:https://www.goldengateparkgolf.com/event/first-tee-of-san-francisco-2/2025-07-21/
END:VEVENT
BEGIN:VEVENT
DTSTART;TZID=UTC:20250715T100000
DTEND;TZID=UTC:20250715T120000
DTSTAMP:20260420T002820
CREATED:20250201T175437Z
LAST-MODIFIED:20250204T193558Z
UID:10000204-1752573600-1752580800@www.goldengateparkgolf.com
SUMMARY:First Tee of San Francisco
DESCRIPTION:Youth Golf Programming. Groups will be utilizing holes #5 and #6. Golfers will play holes #1 – 4 and #7 – 9 while youth groups are on the course. Thank you!
URL:https://www.goldengateparkgolf.com/event/first-tee-of-san-francisco-2/2025-07-15/
END:VEVENT
BEGIN:VEVENT
DTSTART;TZID=UTC:20250714T100000
DTEND;TZID=UTC:20250714T120000
DTSTAMP:20260420T002820
CREATED:20250201T175437Z
LAST-MODIFIED:20250204T193558Z
UID:10000203-1752487200-1752494400@www.goldengateparkgolf.com
SUMMARY:First Tee of San Francisco
DESCRIPTION:Youth Golf Programming. Groups will be utilizing holes #5 and #6. Golfers will play holes #1 – 4 and #7 – 9 while youth groups are on the course. Thank you!
URL:https://www.goldengateparkgolf.com/event/first-tee-of-san-francisco-2/2025-07-14/
END:VEVENT
BEGIN:VEVENT
DTSTART;TZID=UTC:20250708T100000
DTEND;TZID=UTC:20250708T120000
DTSTAMP:20260420T002820
CREATED:20250201T175437Z
LAST-MODIFIED:20250204T193558Z
UID:10000202-1751968800-1751976000@www.goldengateparkgolf.com
SUMMARY:First Tee of San Francisco
DESCRIPTION:Youth Golf Programming. Groups will be utilizing holes #5 and #6. Golfers will play holes #1 – 4 and #7 – 9 while youth groups are on the course. Thank you!
URL:https://www.goldengateparkgolf.com/event/first-tee-of-san-francisco-2/2025-07-08/
END:VEVENT
BEGIN:VEVENT
DTSTART;TZID=UTC:20250707T100000
DTEND;TZID=UTC:20250707T120000
DTSTAMP:20260420T002820
CREATED:20250201T175437Z
LAST-MODIFIED:20250204T193558Z
UID:10000201-1751882400-1751889600@www.goldengateparkgolf.com
SUMMARY:First Tee of San Francisco
DESCRIPTION:Youth Golf Programming. Groups will be utilizing holes #5 and #6. Golfers will play holes #1 – 4 and #7 – 9 while youth groups are on the course. Thank you!
URL:https://www.goldengateparkgolf.com/event/first-tee-of-san-francisco-2/2025-07-07/
END:VEVENT
BEGIN:VEVENT
DTSTART;TZID=UTC:20250701T100000
DTEND;TZID=UTC:20250701T120000
DTSTAMP:20260420T002820
CREATED:20250201T175437Z
LAST-MODIFIED:20250204T193558Z
UID:10000200-1751364000-1751371200@www.goldengateparkgolf.com
SUMMARY:First Tee of San Francisco
DESCRIPTION:Youth Golf Programming. Groups will be utilizing holes #5 and #6. Golfers will play holes #1 – 4 and #7 – 9 while youth groups are on the course. Thank you!
URL:https://www.goldengateparkgolf.com/event/first-tee-of-san-francisco-2/2025-07-01/
END:VEVENT
BEGIN:VEVENT
DTSTART;TZID=UTC:20250630T100000
DTEND;TZID=UTC:20250630T120000
DTSTAMP:20260420T002820
CREATED:20250201T175437Z
LAST-MODIFIED:20250204T193558Z
UID:10000199-1751277600-1751284800@www.goldengateparkgolf.com
SUMMARY:First Tee of San Francisco
DESCRIPTION:Youth Golf Programming. Groups will be utilizing holes #5 and #6. Golfers will play holes #1 – 4 and #7 – 9 while youth groups are on the course. Thank you!
URL:https://www.goldengateparkgolf.com/event/first-tee-of-san-francisco-2/2025-06-30/
END:VEVENT
BEGIN:VEVENT
DTSTART;TZID=UTC:20250624T100000
DTEND;TZID=UTC:20250624T120000
DTSTAMP:20260420T002820
CREATED:20250201T175437Z
LAST-MODIFIED:20250204T193558Z
UID:10000198-1750759200-1750766400@www.goldengateparkgolf.com
SUMMARY:First Tee of San Francisco
DESCRIPTION:Youth Golf Programming. Groups will be utilizing holes #5 and #6. Golfers will play holes #1 – 4 and #7 – 9 while youth groups are on the course. Thank you!
URL:https://www.goldengateparkgolf.com/event/first-tee-of-san-francisco-2/2025-06-24/
END:VEVENT
BEGIN:VEVENT
DTSTART;TZID=UTC:20250623T100000
DTEND;TZID=UTC:20250623T120000
DTSTAMP:20260420T002820
CREATED:20250201T175437Z
LAST-MODIFIED:20250204T193558Z
UID:10000197-1750672800-1750680000@www.goldengateparkgolf.com
SUMMARY:First Tee of San Francisco
DESCRIPTION:Youth Golf Programming. Groups will be utilizing holes #5 and #6. Golfers will play holes #1 – 4 and #7 – 9 while youth groups are on the course. Thank you!
URL:https://www.goldengateparkgolf.com/event/first-tee-of-san-francisco-2/2025-06-23/
END:VEVENT
BEGIN:VEVENT
DTSTART;TZID=UTC:20250617T100000
DTEND;TZID=UTC:20250617T120000
DTSTAMP:20260420T002820
CREATED:20250201T175437Z
LAST-MODIFIED:20250204T193558Z
UID:10000196-1750154400-1750161600@www.goldengateparkgolf.com
SUMMARY:First Tee of San Francisco
DESCRIPTION:Youth Golf Programming. Groups will be utilizing holes #5 and #6. Golfers will play holes #1 – 4 and #7 – 9 while youth groups are on the course. Thank you!
URL:https://www.goldengateparkgolf.com/event/first-tee-of-san-francisco-2/2025-06-17/
END:VEVENT
BEGIN:VEVENT
DTSTART;TZID=UTC:20250616T100000
DTEND;TZID=UTC:20250616T120000
DTSTAMP:20260420T002820
CREATED:20250201T175437Z
LAST-MODIFIED:20250204T193558Z
UID:10000195-1750068000-1750075200@www.goldengateparkgolf.com
SUMMARY:First Tee of San Francisco
DESCRIPTION:Youth Golf Programming. Groups will be utilizing holes #5 and #6. Golfers will play holes #1 – 4 and #7 – 9 while youth groups are on the course. Thank you!
URL:https://www.goldengateparkgolf.com/event/first-tee-of-san-francisco-2/2025-06-16/
END:VEVENT
BEGIN:VEVENT
DTSTART;TZID=UTC:20250610T100000
DTEND;TZID=UTC:20250610T120000
DTSTAMP:20260420T002820
CREATED:20250201T175437Z
LAST-MODIFIED:20250204T193558Z
UID:10000194-1749549600-1749556800@www.goldengateparkgolf.com
SUMMARY:First Tee of San Francisco
DESCRIPTION:Youth Golf Programming. Groups will be utilizing holes #5 and #6. Golfers will play holes #1 – 4 and #7 – 9 while youth groups are on the course. Thank you!
URL:https://www.goldengateparkgolf.com/event/first-tee-of-san-francisco-2/2025-06-10/
END:VEVENT
BEGIN:VEVENT
DTSTART;TZID=UTC:20250609T100000
DTEND;TZID=UTC:20250609T120000
DTSTAMP:20260420T002820
CREATED:20250201T175437Z
LAST-MODIFIED:20250204T193558Z
UID:10000193-1749463200-1749470400@www.goldengateparkgolf.com
SUMMARY:First Tee of San Francisco
DESCRIPTION:Youth Golf Programming. Groups will be utilizing holes #5 and #6. Golfers will play holes #1 – 4 and #7 – 9 while youth groups are on the course. Thank you!
URL:https://www.goldengateparkgolf.com/event/first-tee-of-san-francisco-2/2025-06-09/
END:VEVENT
BEGIN:VEVENT
DTSTART;TZID=UTC:20250603T100000
DTEND;TZID=UTC:20250603T120000
DTSTAMP:20260420T002820
CREATED:20250201T175437Z
LAST-MODIFIED:20250204T193558Z
UID:10000192-1748944800-1748952000@www.goldengateparkgolf.com
SUMMARY:First Tee of San Francisco
DESCRIPTION:Youth Golf Programming. Groups will be utilizing holes #5 and #6. Golfers will play holes #1 – 4 and #7 – 9 while youth groups are on the course. Thank you!
URL:https://www.goldengateparkgolf.com/event/first-tee-of-san-francisco-2/2025-06-03/
END:VEVENT
BEGIN:VEVENT
DTSTART;TZID=UTC:20250602T100000
DTEND;TZID=UTC:20250602T120000
DTSTAMP:20260420T002820
CREATED:20250201T175437Z
LAST-MODIFIED:20250204T193558Z
UID:10000191-1748858400-1748865600@www.goldengateparkgolf.com
SUMMARY:First Tee of San Francisco
DESCRIPTION:Youth Golf Programming. Groups will be utilizing holes #5 and #6. Golfers will play holes #1 – 4 and #7 – 9 while youth groups are on the course. Thank you!
URL:https://www.goldengateparkgolf.com/event/first-tee-of-san-francisco-2/2025-06-02/
END:VEVENT
BEGIN:VEVENT
DTSTART;TZID=UTC:20250527T100000
DTEND;TZID=UTC:20250527T120000
DTSTAMP:20260420T002820
CREATED:20250201T175437Z
LAST-MODIFIED:20250204T193558Z
UID:10000190-1748340000-1748347200@www.goldengateparkgolf.com
SUMMARY:First Tee of San Francisco
DESCRIPTION:Youth Golf Programming. Groups will be utilizing holes #5 and #6. Golfers will play holes #1 – 4 and #7 – 9 while youth groups are on the course. Thank you!
URL:https://www.goldengateparkgolf.com/event/first-tee-of-san-francisco-2/2025-05-27/
END:VEVENT
BEGIN:VEVENT
DTSTART;TZID=UTC:20250526T100000
DTEND;TZID=UTC:20250526T120000
DTSTAMP:20260420T002820
CREATED:20250201T175437Z
LAST-MODIFIED:20250204T193558Z
UID:10000189-1748253600-1748260800@www.goldengateparkgolf.com
SUMMARY:First Tee of San Francisco
DESCRIPTION:Youth Golf Programming. Groups will be utilizing holes #5 and #6. Golfers will play holes #1 – 4 and #7 – 9 while youth groups are on the course. Thank you!
URL:https://www.goldengateparkgolf.com/event/first-tee-of-san-francisco-2/2025-05-26/
END:VEVENT
BEGIN:VEVENT
DTSTART;TZID=UTC:20250520T100000
DTEND;TZID=UTC:20250520T120000
DTSTAMP:20260420T002820
CREATED:20250201T175437Z
LAST-MODIFIED:20250204T193558Z
UID:10000188-1747735200-1747742400@www.goldengateparkgolf.com
SUMMARY:First Tee of San Francisco
DESCRIPTION:Youth Golf Programming. Groups will be utilizing holes #5 and #6. Golfers will play holes #1 – 4 and #7 – 9 while youth groups are on the course. Thank you!
URL:https://www.goldengateparkgolf.com/event/first-tee-of-san-francisco-2/2025-05-20/
END:VEVENT
BEGIN:VEVENT
DTSTART;TZID=UTC:20250519T100000
DTEND;TZID=UTC:20250519T120000
DTSTAMP:20260420T002820
CREATED:20250201T175437Z
LAST-MODIFIED:20250204T193558Z
UID:10000187-1747648800-1747656000@www.goldengateparkgolf.com
SUMMARY:First Tee of San Francisco
DESCRIPTION:Youth Golf Programming. Groups will be utilizing holes #5 and #6. Golfers will play holes #1 – 4 and #7 – 9 while youth groups are on the course. Thank you!
URL:https://www.goldengateparkgolf.com/event/first-tee-of-san-francisco-2/2025-05-19/
END:VEVENT
BEGIN:VEVENT
DTSTART;TZID=UTC:20250513T100000
DTEND;TZID=UTC:20250513T120000
DTSTAMP:20260420T002820
CREATED:20250201T175437Z
LAST-MODIFIED:20250204T193558Z
UID:10000186-1747130400-1747137600@www.goldengateparkgolf.com
SUMMARY:First Tee of San Francisco
DESCRIPTION:Youth Golf Programming. Groups will be utilizing holes #5 and #6. Golfers will play holes #1 – 4 and #7 – 9 while youth groups are on the course. Thank you!
URL:https://www.goldengateparkgolf.com/event/first-tee-of-san-francisco-2/2025-05-13/
END:VEVENT
BEGIN:VEVENT
DTSTART;TZID=UTC:20250512T100000
DTEND;TZID=UTC:20250512T120000
DTSTAMP:20260420T002820
CREATED:20250201T175437Z
LAST-MODIFIED:20250204T193558Z
UID:10000185-1747044000-1747051200@www.goldengateparkgolf.com
SUMMARY:First Tee of San Francisco
DESCRIPTION:Youth Golf Programming. Groups will be utilizing holes #5 and #6. Golfers will play holes #1 – 4 and #7 – 9 while youth groups are on the course. Thank you!
URL:https://www.goldengateparkgolf.com/event/first-tee-of-san-francisco-2/2025-05-12/
END:VEVENT
BEGIN:VEVENT
DTSTART;TZID=UTC:20250506T100000
DTEND;TZID=UTC:20250506T120000
DTSTAMP:20260420T002820
CREATED:20250201T175437Z
LAST-MODIFIED:20250204T193558Z
UID:10000184-1746525600-1746532800@www.goldengateparkgolf.com
SUMMARY:First Tee of San Francisco
DESCRIPTION:Youth Golf Programming. Groups will be utilizing holes #5 and #6. Golfers will play holes #1 – 4 and #7 – 9 while youth groups are on the course. Thank you!
URL:https://www.goldengateparkgolf.com/event/first-tee-of-san-francisco-2/2025-05-06/
END:VEVENT
BEGIN:VEVENT
DTSTART;TZID=UTC:20250505T100000
DTEND;TZID=UTC:20250505T120000
DTSTAMP:20260420T002820
CREATED:20250201T175437Z
LAST-MODIFIED:20250204T193558Z
UID:10000183-1746439200-1746446400@www.goldengateparkgolf.com
SUMMARY:First Tee of San Francisco
DESCRIPTION:Youth Golf Programming. Groups will be utilizing holes #5 and #6. Golfers will play holes #1 – 4 and #7 – 9 while youth groups are on the course. Thank you!
URL:https://www.goldengateparkgolf.com/event/first-tee-of-san-francisco-2/2025-05-05/
END:VEVENT
END:VCALENDAR